BEGIN:VCALENDAR
VERSION:2.0
PRODID:-//Pro Loco Gardolo - ECPv6.15.15//NONSGML v1.0//EN
CALSCALE:GREGORIAN
METHOD:PUBLISH
X-WR-CALNAME:Pro Loco Gardolo
X-ORIGINAL-URL:https://prolocogardolo.it
X-WR-CALDESC:Eventi per Pro Loco Gardolo
REFRESH-INTERVAL;VALUE=DURATION:PT1H
X-Robots-Tag:noindex
X-PUBLISHED-TTL:PT1H
BEGIN:VTIMEZONE
TZID:Europe/Rome
BEGIN:DAYLIGHT
TZOFFSETFROM:+0100
TZOFFSETTO:+0200
TZNAME:CEST
DTSTART:20240331T010000
END:DAYLIGHT
BEGIN:STANDARD
TZOFFSETFROM:+0200
TZOFFSETTO:+0100
TZNAME:CET
DTSTART:20241027T010000
END:STANDARD
BEGIN:DAYLIGHT
TZOFFSETFROM:+0100
TZOFFSETTO:+0200
TZNAME:CEST
DTSTART:20250330T010000
END:DAYLIGHT
BEGIN:STANDARD
TZOFFSETFROM:+0200
TZOFFSETTO:+0100
TZNAME:CET
DTSTART:20251026T010000
END:STANDARD
BEGIN:DAYLIGHT
TZOFFSETFROM:+0100
TZOFFSETTO:+0200
TZNAME:CEST
DTSTART:20260329T010000
END:DAYLIGHT
BEGIN:STANDARD
TZOFFSETFROM:+0200
TZOFFSETTO:+0100
TZNAME:CET
DTSTART:20261025T010000
END:STANDARD
END:VTIMEZONE
BEGIN:VEVENT
DTSTART;TZID=Europe/Rome:20250618T180000
DTEND;TZID=Europe/Rome:20250618T233000
DTSTAMP:20260423T220156
CREATED:20250521T172024Z
LAST-MODIFIED:20250615T090503Z
UID:323-1750269600-1750289400@prolocogardolo.it
SUMMARY:Gardolo Brilla - serata culturale
DESCRIPTION:GARDOLO BRILLA – SERATA CULTURALE 🎭📅 Martedì 18 Giugno 2025🕕 Dalle 18:00 alle 24:00📍 Piazza di Gardolo \nUn’intera serata dedicata alla cultura\, alle famiglie e al divertimento!Ecco cosa vi aspetta: \n🎨 Attività per bambini – disegni e gessetti🔥 Panitelling – racconti e storie dal forno🧠 Quiz “Gardolo Brilla Ancora” – scopri quanto conosci Gardolo🎲 Gioco dei numeri – a cura delle associazioni locali \n🎶 Musica di sottofondo per accompagnare la serata🍕 Pizza e panini con porchetta per tutti i gusti! \nOrganizzato da Pro Loco Gardolo con il supporto del Comune di Trento e la Circoscrizione Gardolo.
URL:https://prolocogardolo.it/evento/gardolo-brilla-serata-culturale/
LOCATION:Gardolo\, Trento\, Piazza della Libertà
CATEGORIES:Cultura
ATTACH;FMTTYPE=image/png:https://prolocogardolo.it/wp-content/uploads/2025/05/2.png
END:VEVENT
BEGIN:VEVENT
DTSTART;TZID=Europe/Rome:20250525T000000
DTEND;TZID=Europe/Rome:20250525T235959
DTSTAMP:20260423T220156
CREATED:20250521T171046Z
LAST-MODIFIED:20250521T173615Z
UID:299-1748131200-1748217599@prolocogardolo.it
SUMMARY:Albero di Maggio - Maibaum 2025
DESCRIPTION:Data: Domenica 25 maggio 2025\nLuogo: Gardolo\, Trento\nOrganizzatori: Associazione Amici del Gemellaggio Gardolo-Neufahrn\, Pro Loco\, Gruppo A.N.A.\, Vigili del Fuoco volontari\, Circoscrizione di Gardolo\nProgramma:\n\n10:30: Santa Messa\n11:30: Deposizione della corona presso il monumento ai caduti\n11:45: Sfilata verso il parco di via Feininger\, commemorazione ed esposizione delle bandiere\, esecuzione degli inni (italiano\, tedesco\, europeo)\n12:15: Trasferimento in Piazzale Groff e concerto del Corpo Musicale di Gardolo\nA seguire: Distribuzione di specialità bavaresi offerte dagli amici di Neufahrn\n\n\n\n  \nLOCANDINA MAIBAUM 2025
URL:https://prolocogardolo.it/evento/albero-di-maggio-maibaum-2025/
LOCATION:Trento\, via brennero\, Italy
CATEGORIES:Cultura
END:VEVENT
END:VCALENDAR