BEGIN:VCALENDAR
VERSION:2.0
PRODID:-//Pro Loco Gardolo - ECPv6.15.15//NONSGML v1.0//EN
CALSCALE:GREGORIAN
METHOD:PUBLISH
X-ORIGINAL-URL:https://prolocogardolo.it
X-WR-CALDESC:Eventi per Pro Loco Gardolo
REFRESH-INTERVAL;VALUE=DURATION:PT1H
X-Robots-Tag:noindex
X-PUBLISHED-TTL:PT1H
BEGIN:VTIMEZONE
TZID:Europe/Rome
BEGIN:DAYLIGHT
TZOFFSETFROM:+0100
TZOFFSETTO:+0200
TZNAME:CEST
DTSTART:20250330T010000
END:DAYLIGHT
BEGIN:STANDARD
TZOFFSETFROM:+0200
TZOFFSETTO:+0100
TZNAME:CET
DTSTART:20251026T010000
END:STANDARD
BEGIN:DAYLIGHT
TZOFFSETFROM:+0100
TZOFFSETTO:+0200
TZNAME:CEST
DTSTART:20260329T010000
END:DAYLIGHT
BEGIN:STANDARD
TZOFFSETFROM:+0200
TZOFFSETTO:+0100
TZNAME:CET
DTSTART:20261025T010000
END:STANDARD
BEGIN:DAYLIGHT
TZOFFSETFROM:+0100
TZOFFSETTO:+0200
TZNAME:CEST
DTSTART:20270328T010000
END:DAYLIGHT
BEGIN:STANDARD
TZOFFSETFROM:+0200
TZOFFSETTO:+0100
TZNAME:CET
DTSTART:20271031T010000
END:STANDARD
END:VTIMEZONE
BEGIN:VEVENT
DTSTART;TZID=Europe/Rome:20260208T000000
DTEND;TZID=Europe/Rome:20260208T235959
DTSTAMP:20260423T233808
CREATED:20260126T083921Z
LAST-MODIFIED:20260126T083921Z
UID:805-1770508800-1770595199@prolocogardolo.it
SUMMARY:Carnevale a Gardolo
DESCRIPTION:📍 Dove: Piazzale Groff\, Gardolo\n🗓 Quando: Domenica 8 Febbraio \nProgramma :\n🍴 Ore 12.30: Pranzo tipico con polenta\, luganeghe e formaggio\n🎭 Ore 14.00: Passerella delle mascherine. \n✨ IMPORTANTE: Per ricevere il regalo dopo la sfilata\, l’iscrizione è obbligatoria entro il 30 gennaio presso:\nMerler Garden Center (Via Aeroporto\, 45)\nTonelli Fiori ( Via IV Novembre\, 66) \nDurante tutto l’evento non mancheranno zucchero filato\, popcorn e tantissimi giochi per i più piccoli! 🍿
URL:https://prolocogardolo.it/evento/carnevale-a-gardolo/
LOCATION:Piazzale Lionello Groff
CATEGORIES:Festa
END:VEVENT
BEGIN:VEVENT
DTSTART;TZID=Europe/Rome:20260425T000000
DTEND;TZID=Europe/Rome:20260426T235959
DTSTAMP:20260423T233808
CREATED:20260409T075123Z
LAST-MODIFIED:20260409T075348Z
UID:939-1777075200-1777247999@prolocogardolo.it
SUMMARY:Festa di Primavera
DESCRIPTION: \n🤝 Associazioni\nTroverai stand informativi\, dimostrazioni sportive dal vivo e laboratori creativi per grandi e piccoli. \n\n\n\n🎶 Musica e Spettacoli\n\n\n\nbande\, cori\, scuole di danza e band live. \n\n\n\n🍴 Area Ristoro\n\n\n\nLo spazio ideale per rilassarsi e ricaricare le energie. \n  \ntutte le info sull’articolo completo
URL:https://prolocogardolo.it/evento/festa-di-primavera/
LOCATION:Gardolo\, Trento\, Piazza della Libertà
CATEGORIES:Cultura,Festa
ATTACH;FMTTYPE=image/jpeg:https://prolocogardolo.it/wp-content/uploads/2026/04/Header-sito-festa-di-primavera.jpg
END:VEVENT
END:VCALENDAR